BEGIN:VCALENDAR
VERSION:2.0
PRODID:-//Crystal Springs &bull; Mississippi - ECPv6.15.20//NONSGML v1.0//EN
CALSCALE:GREGORIAN
METHOD:PUBLISH
X-WR-CALNAME:Crystal Springs &bull; Mississippi
X-ORIGINAL-URL:https://cityofcrystalsprings.com
X-WR-CALDESC:Events for Crystal Springs &bull; Mississippi
REFRESH-INTERVAL;VALUE=DURATION:PT1H
X-Robots-Tag:noindex
X-PUBLISHED-TTL:PT1H
BEGIN:VTIMEZONE
TZID:UTC
BEGIN:STANDARD
TZOFFSETFROM:+0000
TZOFFSETTO:+0000
TZNAME:UTC
DTSTART:20190101T000000
END:STANDARD
END:VTIMEZONE
BEGIN:VTIMEZONE
TZID:America/Chicago
BEGIN:DAYLIGHT
TZOFFSETFROM:-0600
TZOFFSETTO:-0500
TZNAME:CDT
DTSTART:20190310T080000
END:DAYLIGHT
BEGIN:STANDARD
TZOFFSETFROM:-0500
TZOFFSETTO:-0600
TZNAME:CST
DTSTART:20191103T070000
END:STANDARD
BEGIN:DAYLIGHT
TZOFFSETFROM:-0600
TZOFFSETTO:-0500
TZNAME:CDT
DTSTART:20200308T080000
END:DAYLIGHT
BEGIN:STANDARD
TZOFFSETFROM:-0500
TZOFFSETTO:-0600
TZNAME:CST
DTSTART:20201101T070000
END:STANDARD
BEGIN:DAYLIGHT
TZOFFSETFROM:-0600
TZOFFSETTO:-0500
TZNAME:CDT
DTSTART:20210314T080000
END:DAYLIGHT
BEGIN:STANDARD
TZOFFSETFROM:-0500
TZOFFSETTO:-0600
TZNAME:CST
DTSTART:20211107T070000
END:STANDARD
END:VTIMEZONE
BEGIN:VEVENT
DTSTART;TZID=UTC:20230902T090000
DTEND;TZID=UTC:20230902T140000
DTSTAMP:20260423T104508
CREATED:20230511T201701Z
LAST-MODIFIED:20230511T202153Z
UID:2386-1693645200-1693663200@cityofcrystalsprings.com
SUMMARY:Saturdays at the Shed
DESCRIPTION:Saturdays at the Shed  \nSaturdays at the Shed (SATS) is a project of Main Street Crystal Springs. It is an open- air market located in historic downtown Crystal Springs. This market provides a venue for local vendors and growers to market their goods to consumers. \nThe Vision of SATS is to be a steward of local agriculture and small businesses; a harmonious financially strong organization growing in reputation and cultural relevance\, with increased market sales\, solid alignment between farmers and food producers\, and recognition as a thought-leader and innovator in the local foodshed.  \nContact Main Street Crystal Springs for more info: \nhttps://www.facebook.com/mainstreetcrystalsprings \nmainstreetcrystalsprings@gmail.com \nActivity Schedule  \nSaturday mornings; market begins On February 4th and ends on December 1st. \nMarket hours: 9:00 a.m. – 2:00 p.m. Set-up time: No earlier than 8:00 a.m. Clean-up: 3:00 p.m. – 4:00 p.m. \nMarket Dates  \nFebruary 4 \nMarch 4 \nApril 1 \nMay 6 \nJune 3 \nJuly 1 \nAugust 5 \nSeptember 2 \nOctober 7 \nNovember 4 \nDecember 1 \nSaturdays at the Shed Vendor Application  \n  \n 
URL:https://cityofcrystalsprings.com/event/saturdays-at-the-shed-4/
LOCATION:Downtown Crystal Springs Pavilion\, 306 East Railroad Ave\, Crystal Springs\, MS\, 39059\, United States
END:VEVENT
BEGIN:VEVENT
DTSTART;TZID=UTC:20230805T090000
DTEND;TZID=UTC:20230805T140000
DTSTAMP:20260423T104508
CREATED:20230511T201221Z
LAST-MODIFIED:20230511T201457Z
UID:2384-1691226000-1691244000@cityofcrystalsprings.com
SUMMARY:Saturdays at the Shed
DESCRIPTION:Saturdays at the Shed  \nSaturdays at the Shed (SATS) is a project of Main Street Crystal Springs. It is an open- air market located in historic downtown Crystal Springs. This market provides a venue for local vendors and growers to market their goods to consumers. \nThe Vision of SATS is to be a steward of local agriculture and small businesses; a harmonious financially strong organization growing in reputation and cultural relevance\, with increased market sales\, solid alignment between farmers and food producers\, and recognition as a thought-leader and innovator in the local foodshed.  \nContact Main Street Crystal Springs for more info: \nhttps://www.facebook.com/mainstreetcrystalsprings \nmainstreetcrystalsprings@gmail.com \nActivity Schedule  \nSaturday mornings; market begins On February 4th and ends on December 1st. \nMarket hours: 9:00 a.m. – 2:00 p.m. Set-up time: No earlier than 8:00 a.m. Clean-up: 3:00 p.m. – 4:00 p.m. \nMarket Dates  \nFebruary 4 \nMarch 4 \nApril 1 \nMay 6 \nJune 3 \nJuly 1 \nAugust 5 \nSeptember 2 \nOctober 7 \nNovember 4 \nDecember 1 \nSaturdays at the Shed Vendor Application  \n  \n 
URL:https://cityofcrystalsprings.com/event/saturdays-at-the-shed-3/
END:VEVENT
BEGIN:VEVENT
DTSTART;TZID=UTC:20230701T090000
DTEND;TZID=UTC:20230701T140000
DTSTAMP:20260423T104508
CREATED:20230511T201139Z
LAST-MODIFIED:20230511T201139Z
UID:2382-1688202000-1688220000@cityofcrystalsprings.com
SUMMARY:Saturdays at the Shed
DESCRIPTION:Saturdays at the Shed  \nSaturdays at the Shed (SATS) is a project of Main Street Crystal Springs. It is an open- air market located in historic downtown Crystal Springs. This market provides a venue for local vendors and growers to market their goods to consumers. \nThe Vision of SATS is to be a steward of local agriculture and small businesses; a harmonious financially strong organization growing in reputation and cultural relevance\, with increased market sales\, solid alignment between farmers and food producers\, and recognition as a thought-leader and innovator in the local foodshed.  \nContact Main Street Crystal Springs for more info: \nhttps://www.facebook.com/mainstreetcrystalsprings \nmainstreetcrystalsprings@gmail.com \nActivity Schedule  \nSaturday mornings; market begins On February 4th and ends on December 1st. \nMarket hours: 9:00 a.m. – 2:00 p.m. Set-up time: No earlier than 8:00 a.m. Clean-up: 3:00 p.m. – 4:00 p.m. \nMarket Dates  \nFebruary 4 \nMarch 4 \nApril 1 \nMay 6 \nJune 3 \nJuly 1 \nAugust 5 \nSeptember 2 \nOctober 7 \nNovember 4 \nDecember 1 \nSaturdays at the Shed Vendor Application  \n  \n 
URL:https://cityofcrystalsprings.com/event/saturdays-at-the-shed-2/
END:VEVENT
BEGIN:VEVENT
DTSTART;TZID=UTC:20230624T090000
DTEND;TZID=UTC:20230624T140000
DTSTAMP:20260423T104508
CREATED:20230531T140128Z
LAST-MODIFIED:20230531T140128Z
UID:2446-1687597200-1687615200@cityofcrystalsprings.com
SUMMARY:Tomato Fest Art Show
DESCRIPTION:
URL:https://cityofcrystalsprings.com/event/tomato-fest-art-show/
END:VEVENT
BEGIN:VEVENT
DTSTART;TZID=UTC:20230623T170000
DTEND;TZID=UTC:20230623T223000
DTSTAMP:20260423T104508
CREATED:20230511T203113Z
LAST-MODIFIED:20230511T203244Z
UID:2396-1687539600-1687559400@cityofcrystalsprings.com
SUMMARY:Junior Auxiliary Street Party
DESCRIPTION:
URL:https://cityofcrystalsprings.com/event/junior-auxiliary-street-party/
END:VEVENT
BEGIN:VEVENT
DTSTART;TZID=UTC:20230621T090000
DTEND;TZID=UTC:20230621T140000
DTSTAMP:20260423T104508
CREATED:20230512T201439Z
LAST-MODIFIED:20230515T003752Z
UID:2405-1687338000-1687356000@cityofcrystalsprings.com
SUMMARY:Homeless Awareness and Resource Event
DESCRIPTION:Click on flyer image to enlarge
URL:https://cityofcrystalsprings.com/event/homeless-awareness-and-resource-event/
LOCATION:Chautauqua Park\, 26031 Highway 51\, Crystal Springs\, MS\, 39059\, United States
END:VEVENT
BEGIN:VEVENT
DTSTART;TZID=UTC:20230603T090000
DTEND;TZID=UTC:20230603T140000
DTSTAMP:20260423T104508
CREATED:20230511T193514Z
LAST-MODIFIED:20231107T161434Z
UID:2368-1685782800-1685800800@cityofcrystalsprings.com
SUMMARY:Saturdays at the Shed
DESCRIPTION:Saturdays at the Shed \nSaturdays at the Shed (SATS) is a project of Main Street Crystal Springs. It is an open- air market located in historic downtown Crystal Springs. This market provides a venue for local vendors and growers to market their goods to consumers.  \nThe Vision of SATS is to be a steward of local agriculture and small businesses; a harmonious financially strong organization growing in reputation and cultural relevance\, with increased market sales\, solid alignment between farmers and food producers\, and recognition as a thought-leader and innovator in the local foodshed.  \nContact Main Street Crystal Springs for more info: \nhttps://www.facebook.com/mainstreetcrystalsprings \nmainstreetcrystalsprings@gmail.com \nActivity Schedule  \nSaturday mornings; market begins On February 4th and ends on December 1st.  \nMarket hours: 9:00 a.m. – 2:00 p.m. Set-up time: No earlier than 8:00 a.m. Clean-up: 3:00 p.m. – 4:00 p.m.  \nMarket Dates  \nFebruary 4  \nMarch 4  \nApril 1  \nMay 6  \nJune 3  \nJuly 1  \nAugust 5  \nSeptember 2  \nOctober 7  \nNovember 4  \nDecember 1 \nSaturdays at the Shed Vendor Application  \n  \n 
URL:https://cityofcrystalsprings.com/event/saturdays-at-the-shed/
LOCATION:Downtown Crystal Springs Pavilion\, 306 East Railroad Ave\, Crystal Springs\, MS\, 39059\, United States
ORGANIZER;CN="Main Street Crystal Springs":MAILTO:feliciadthompson@gmail.com
END:VEVENT
BEGIN:VEVENT
DTSTART;TZID=UTC:20230515T080000
DTEND;TZID=UTC:20230515T120000
DTSTAMP:20260423T104508
CREATED:20230511T203619Z
LAST-MODIFIED:20230512T140127Z
UID:2398-1684137600-1684152000@cityofcrystalsprings.com
SUMMARY:Junior Auxiliary Swimming Lessons Registration
DESCRIPTION:
URL:https://cityofcrystalsprings.com/event/junior-auxiliary-swimming-lessons/
END:VEVENT
BEGIN:VEVENT
DTSTART;TZID=UTC:20211204T090000
DTEND;TZID=UTC:20211204T140000
DTSTAMP:20260423T104508
CREATED:20210121T191559Z
LAST-MODIFIED:20210129T221914Z
UID:2064-1638608400-1638626400@cityofcrystalsprings.com
SUMMARY:Crystal Springs’ Farmers Market
DESCRIPTION:Call for vendors who would like to sell their fruits\, veggies\, fresh eggs\, fresh milk\, natural soaps & products\, arts & crafts. \nInbox Main Street Crystal Springs for more information. \nMain Street Crystal Springs | Facebook \n\nWe’re accepting applications from vendors for our 2021 events.\n\n\nPlease share and get the word out \n\n\n\nCrystal Springs’ Farmers Market \n\n\nSaturday mornings: April – December\n\n\nMarket hours: 9 am – 2 pm\n\n\nMarket Dates:\nDec 4\n\n\n2021 Farmers Market Guidelines and Application
URL:https://cityofcrystalsprings.com/event/crystal-springs-farmers-market-9/
LOCATION:Crystal Springs Downtown\, E Railroad Ave\, Crystal Springs\, MS\, 39059\, United States
ORGANIZER;CN="Main Street Crystal Springs":MAILTO:feliciadthompson@gmail.com
END:VEVENT
BEGIN:VEVENT
DTSTART;TZID=UTC:20211106T090000
DTEND;TZID=UTC:20211106T140000
DTSTAMP:20260423T104508
CREATED:20210121T191408Z
LAST-MODIFIED:20210129T221748Z
UID:2062-1636189200-1636207200@cityofcrystalsprings.com
SUMMARY:Crystal Springs’ Farmers Market
DESCRIPTION:Call for vendors who would like to sell their fruits\, veggies\, fresh eggs\, fresh milk\, natural soaps & products\, arts & crafts. \nInbox Main Street Crystal Springs for more information. \nMain Street Crystal Springs | Facebook \n\nWe’re accepting applications from vendors for our 2021 events.\n\n\nPlease share and get the word out \n\n\n\nCrystal Springs’ Farmers Market \n\n\nSaturday mornings: April – December\n\n\nMarket hours: 9 am – 2 pm\n\n\nMarket Dates:\nNov 6\, Dec 4\n\n\n2021 Farmers Market Guidelines and Application
URL:https://cityofcrystalsprings.com/event/crystal-springs-farmers-market-8/
LOCATION:Crystal Springs Downtown\, E Railroad Ave\, Crystal Springs\, MS\, 39059\, United States
ORGANIZER;CN="Main Street Crystal Springs":MAILTO:feliciadthompson@gmail.com
END:VEVENT
BEGIN:VEVENT
DTSTART;TZID=UTC:20211002T090000
DTEND;TZID=UTC:20211002T140000
DTSTAMP:20260423T104508
CREATED:20210121T190123Z
LAST-MODIFIED:20210129T222037Z
UID:2058-1633165200-1633183200@cityofcrystalsprings.com
SUMMARY:Crystal Springs’ Farmers Market
DESCRIPTION:Call for vendors who would like to sell their fruits\, veggies\, fresh eggs\, fresh milk\, natural soaps & products\, arts & crafts. \nInbox Main Street Crystal Springs for more information. \nMain Street Crystal Springs | Facebook \n\nWe’re accepting applications from vendors for our 2021 events.\n\n\nPlease share and get the word out \n\n\n\nCrystal Springs’ Farmers Market \n\n\nSaturday mornings: April – December\n\n\nMarket hours: 9 am – 2 pm\n\n\nMarket Dates:\nOct 2\, Nov 6\, Dec 4\n\n\n2021 Farmers Market Guidelines and Application
URL:https://cityofcrystalsprings.com/event/crystal-springs-farmers-market-7/
LOCATION:Crystal Springs Downtown\, E Railroad Ave\, Crystal Springs\, MS\, 39059\, United States
ORGANIZER;CN="Main Street Crystal Springs":MAILTO:feliciadthompson@gmail.com
END:VEVENT
BEGIN:VEVENT
DTSTART;TZID=UTC:20210904T090000
DTEND;TZID=UTC:20210904T140000
DTSTAMP:20260423T104508
CREATED:20210121T185835Z
LAST-MODIFIED:20210129T221540Z
UID:2056-1630746000-1630764000@cityofcrystalsprings.com
SUMMARY:Crystal Springs’ Farmers Market
DESCRIPTION:Call for vendors who would like to sell their fruits\, veggies\, fresh eggs\, fresh milk\, natural soaps & products\, arts & crafts. \nInbox Main Street Crystal Springs for more information. \nMain Street Crystal Springs | Facebook \n\nWe’re accepting applications from vendors for our 2021 events.\n\n\nPlease share and get the word out \n\n\n\nCrystal Springs’ Farmers Market \n\n\nSaturday mornings: April – December\n\n\nMarket hours: 9 am – 2 pm\n\n\nMarket Dates:\nSept 4\, Oct 2\, Nov 6\, Dec 4
URL:https://cityofcrystalsprings.com/event/crystal-springs-farmers-market-6/
LOCATION:Crystal Springs Downtown\, E Railroad Ave\, Crystal Springs\, MS\, 39059\, United States
ORGANIZER;CN="Main Street Crystal Springs":MAILTO:feliciadthompson@gmail.com
END:VEVENT
BEGIN:VEVENT
DTSTART;TZID=UTC:20210807T090000
DTEND;TZID=UTC:20210807T140000
DTSTAMP:20260423T104508
CREATED:20210121T182526Z
LAST-MODIFIED:20210129T222138Z
UID:2054-1628326800-1628344800@cityofcrystalsprings.com
SUMMARY:Crystal Springs’ Farmers Market
DESCRIPTION:Call for vendors who would like to sell their fruits\, veggies\, fresh eggs\, fresh milk\, natural soaps & products\, arts & crafts. \nInbox Main Street Crystal Springs for more information. \nMain Street Crystal Springs | Facebook \n\nWe’re accepting applications from vendors for our 2021 events.\n\n\nPlease share and get the word out \n\n\n\nCrystal Springs’ Farmers Market \n\n\nSaturday mornings: April – December\n\n\nMarket hours: 9 am – 2 pm\n\n\nMarket Dates:\nAug 7\, Sept 4\, Oct 2\, Nov 6\, Dec 4\n\n\n2021 Farmers Market Guidelines and Application
URL:https://cityofcrystalsprings.com/event/crystal-springs-farmers-market-5/
LOCATION:Crystal Springs Downtown\, E Railroad Ave\, Crystal Springs\, MS\, 39059\, United States
ORGANIZER;CN="Main Street Crystal Springs":MAILTO:feliciadthompson@gmail.com
END:VEVENT
BEGIN:VEVENT
DTSTART;TZID=UTC:20210703T090000
DTEND;TZID=UTC:20210703T140000
DTSTAMP:20260423T104508
CREATED:20210121T182047Z
LAST-MODIFIED:20210129T222252Z
UID:2051-1625302800-1625320800@cityofcrystalsprings.com
SUMMARY:Crystal Springs’ Farmers Market
DESCRIPTION:Call for vendors who would like to sell their fruits\, veggies\, fresh eggs\, fresh milk\, natural soaps & products\, arts & crafts. \nInbox Main Street Crystal Springs for more information. \nMain Street Crystal Springs | Facebook \n\nWe’re accepting applications from vendors for our 2021 events.\n\n\nPlease share and get the word out \n\n\n\nCrystal Springs’ Farmers Market \n\n\nSaturday mornings: April – December\n\n\nMarket hours: 9 am – 2 pm\n\n\nMarket Dates:\nJuly 3\, Aug 7\, Sept 4\, Oct 2\, Nov 6\, Dec 4\n\n\n2021 Farmers Market Guidelines and Application
URL:https://cityofcrystalsprings.com/event/crystal-springs-farmers-market-4/
LOCATION:Crystal Springs Downtown\, E Railroad Ave\, Crystal Springs\, MS\, 39059\, United States
ORGANIZER;CN="Main Street Crystal Springs":MAILTO:feliciadthompson@gmail.com
END:VEVENT
BEGIN:VEVENT
DTSTART;TZID=UTC:20210626T090000
DTEND;TZID=UTC:20210626T150000
DTSTAMP:20260423T104508
CREATED:20190204T170555Z
LAST-MODIFIED:20210505T184317Z
UID:1227-1624698000-1624719600@cityofcrystalsprings.com
SUMMARY:25th Tomato Festival
DESCRIPTION:
URL:https://cityofcrystalsprings.com/event/25th-tomato-festival/
LOCATION:Railroad Park\, W Railroad Ave S\, Crystal Springs\, MS\, 39059\, United States
ORGANIZER;CN="Crystal Springs Chamber of Commerce":MAILTO:crystalspringschamber@gmail.com
END:VEVENT
BEGIN:VEVENT
DTSTART;TZID=UTC:20210626T070000
DTEND;TZID=UTC:20210626T070000
DTSTAMP:20260423T104508
CREATED:20180228T174203Z
LAST-MODIFIED:20210505T184441Z
UID:766-1624690800-1624690800@cityofcrystalsprings.com
SUMMARY:Tomato Festival 5K Run/Walk & 1 Mile Fun Run
DESCRIPTION:https://cityofcrystalsprings.com/tomato-festival-5k-runwalk-1-mile-fun-run/
URL:https://cityofcrystalsprings.com/event/tomato-festival-5k-run-walk-1-mile-fun-run/
LOCATION:Lee Avenue Community Center\, 212 Lee Ave\, Crystal Springs\, MS\, 39059\, United States
ORGANIZER;CN="Crystal Springs Chamber of Commerce":MAILTO:crystalspringschamber@gmail.com
END:VEVENT
BEGIN:VEVENT
DTSTART;TZID=UTC:20210625T180000
DTEND;TZID=UTC:20210625T210000
DTSTAMP:20260423T104508
CREATED:20210125T220646Z
LAST-MODIFIED:20210125T220646Z
UID:2077-1624644000-1624654800@cityofcrystalsprings.com
SUMMARY:JA Street Party
DESCRIPTION:
URL:https://cityofcrystalsprings.com/event/ja-street-party/
LOCATION:Crystal Springs Downtown\, E Railroad Ave\, Crystal Springs\, MS\, 39059\, United States
ORGANIZER;CN="Junior Auxiliary":MAILTO:juniorauxiliarycrystalsprings@gmail.com
END:VEVENT
BEGIN:VEVENT
DTSTART;TZID=UTC:20210605T090000
DTEND;TZID=UTC:20210605T140000
DTSTAMP:20260423T104508
CREATED:20210121T181516Z
LAST-MODIFIED:20210129T222348Z
UID:2048-1622883600-1622901600@cityofcrystalsprings.com
SUMMARY:Crystal Springs’ Farmers Market
DESCRIPTION:Call for vendors who would like to sell their fruits\, veggies\, fresh eggs\, fresh milk\, natural soaps & products\, arts & crafts. \nInbox Main Street Crystal Springs for more information. \nMain Street Crystal Springs | Facebook \n\nWe’re accepting applications from vendors for our 2021 events.\n\n\nPlease share and get the word out \n\n\n\nCrystal Springs’ Farmers Market \n\n\nSaturday mornings: April – December\n\n\nMarket hours: 9 am – 2 pm\n\n\nMarket Dates:\nJune 5\, July 3\, Aug 7\, Sept 4\, Oct 2\, Nov 6\, Dec 4\n\n\n2021 Farmers Market Guidelines and Application
URL:https://cityofcrystalsprings.com/event/crystal-springs-farmers-market-3/
LOCATION:Crystal Springs Downtown\, E Railroad Ave\, Crystal Springs\, MS\, 39059\, United States
ORGANIZER;CN="Main Street Crystal Springs":MAILTO:feliciadthompson@gmail.com
END:VEVENT
BEGIN:VEVENT
DTSTART;VALUE=DATE:20210506
DTEND;VALUE=DATE:20210507
DTSTAMP:20260423T104508
CREATED:20210125T201603Z
LAST-MODIFIED:20210125T201603Z
UID:2074-1620259200-1620345599@cityofcrystalsprings.com
SUMMARY:National Day of Prayer
DESCRIPTION:
URL:https://cityofcrystalsprings.com/event/national-day-of-prayer/
END:VEVENT
BEGIN:VEVENT
DTSTART;TZID=UTC:20210501T090000
DTEND;TZID=UTC:20210501T140000
DTSTAMP:20260423T104508
CREATED:20210121T181327Z
LAST-MODIFIED:20210129T222456Z
UID:2046-1619859600-1619877600@cityofcrystalsprings.com
SUMMARY:Crystal Springs’ Farmers Market
DESCRIPTION:Call for vendors who would like to sell their fruits\, veggies\, fresh eggs\, fresh milk\, natural soaps & products\, arts & crafts. \nInbox Main Street Crystal Springs for more information. \nMain Street Crystal Springs | Facebook \n\nWe’re accepting applications from vendors for our 2021 events.\n\n\nPlease share and get the word out \n\n\n\nCrystal Springs’ Farmers Market \n\n\nSaturday mornings: April – December\n\n\nMarket hours: 9 am – 2 pm\n\n\nMarket Dates:\nMay 1\, June 5\, July 3\, Aug 7\, Sept 4\, Oct 2\, Nov 6\, Dec 4\n\n\n2021 Farmers Market Guidelines and Application
URL:https://cityofcrystalsprings.com/event/crystal-springs-farmers-market-2/
LOCATION:Crystal Springs Downtown\, E Railroad Ave\, Crystal Springs\, MS\, 39059\, United States
ORGANIZER;CN="Main Street Crystal Springs":MAILTO:feliciadthompson@gmail.com
END:VEVENT
BEGIN:VEVENT
DTSTART;TZID=UTC:20210501T080000
DTEND;TZID=UTC:20210501T120000
DTSTAMP:20260423T104508
CREATED:20210121T202442Z
LAST-MODIFIED:20210121T202756Z
UID:2069-1619856000-1619870400@cityofcrystalsprings.com
SUMMARY:Plant Sale - Chautauqua Garden Club
DESCRIPTION:
URL:https://cityofcrystalsprings.com/event/plant-sale-chautauqua-garden-club/
LOCATION:Railroad Park\, W Railroad Ave S\, Crystal Springs\, MS\, 39059\, United States
END:VEVENT
BEGIN:VEVENT
DTSTART;TZID=UTC:20210417T150000
DTEND;TZID=UTC:20210417T210000
DTSTAMP:20260423T104508
CREATED:20200219T201501Z
LAST-MODIFIED:20210121T193141Z
UID:1902-1618671600-1618693200@cityofcrystalsprings.com
SUMMARY:Taste of the Blues
DESCRIPTION:Taste of the Blues Festival will be held on Friday\, April 17\, 2021 from 3:00 pm – 9:00 pm in Downtown Crystal Springs on the square.  The festival features blues musicians\, local artists\, food vendors\, jump houses for the kiddos and activities for the entire family.
URL:https://cityofcrystalsprings.com/event/taste-of-the-blues-2/
LOCATION:Crystal Springs Downtown\, E Railroad Ave\, Crystal Springs\, MS\, 39059\, United States
ORGANIZER;CN="Main Street Crystal Springs":MAILTO:feliciadthompson@gmail.com
END:VEVENT
BEGIN:VEVENT
DTSTART;TZID=UTC:20210410T080000
DTEND;TZID=UTC:20210410T120000
DTSTAMP:20260423T104508
CREATED:20210405T182216Z
LAST-MODIFIED:20210405T182216Z
UID:2171-1618041600-1618056000@cityofcrystalsprings.com
SUMMARY:Clean Up Day 2021
DESCRIPTION:
URL:https://cityofcrystalsprings.com/event/clean-up-day-2021/
END:VEVENT
BEGIN:VEVENT
DTSTART;TZID=UTC:20210403T090000
DTEND;TZID=UTC:20210403T140000
DTSTAMP:20260423T104508
CREATED:20210121T180819Z
LAST-MODIFIED:20210129T222557Z
UID:2042-1617440400-1617458400@cityofcrystalsprings.com
SUMMARY:Crystal Springs’ Farmers Market
DESCRIPTION:Call for vendors who would like to sell their fruits\, veggies\, fresh eggs\, fresh milk\, natural soaps & products\, arts & crafts. \n  \nInbox Main Street Crystal Springs for more information. \nMain Street Crystal Springs | Facebook \n\nWe’re accepting applications from vendors for our 2021 events.\n\n\nPlease share and get the word out \n\n\n\nCrystal Springs’ Farmers Market \n\n\nSaturday mornings: April – December\n\n\nMarket hours: 9 am – 2 pm\n\n\nMarket Dates:\nApr 3\, May 1\, June 5\, July 3\, Aug 7\, Sept 4\, Oct 2\, Nov 6\, Dec 4\n\n\n2021 Farmers Market Guidelines and Application
URL:https://cityofcrystalsprings.com/event/crystal-springs-farmers-market/
LOCATION:Crystal Springs Downtown\, E Railroad Ave\, Crystal Springs\, MS\, 39059\, United States
ORGANIZER;CN="Main Street Crystal Springs":MAILTO:feliciadthompson@gmail.com
END:VEVENT
BEGIN:VEVENT
DTSTART;TZID=UTC:20210320T100000
DTEND;TZID=UTC:20210320T160000
DTSTAMP:20260423T104508
CREATED:20210311T171504Z
LAST-MODIFIED:20210311T171504Z
UID:2157-1616234400-1616256000@cityofcrystalsprings.com
SUMMARY:St. Paddy's Downtown
DESCRIPTION:
URL:https://cityofcrystalsprings.com/event/st-paddys-downtown/
LOCATION:Railroad Park\, W Railroad Ave S\, Crystal Springs\, MS\, 39059\, United States
END:VEVENT
BEGIN:VEVENT
DTSTART;TZID=UTC:20210208T080000
DTEND;TZID=UTC:20210208T170000
DTSTAMP:20260423T104508
CREATED:20210121T174727Z
LAST-MODIFIED:20210121T174727Z
UID:2038-1612771200-1612803600@cityofcrystalsprings.com
SUMMARY:Wesson Wagon Train
DESCRIPTION:
URL:https://cityofcrystalsprings.com/event/wesson-wagon-train/
LOCATION:Crystal Springs Downtown\, E Railroad Ave\, Crystal Springs\, MS\, 39059\, United States
END:VEVENT
BEGIN:VEVENT
DTSTART;TZID=America/Chicago:20201205T180000
DTEND;TZID=America/Chicago:20201205T190000
DTSTAMP:20260423T104508
CREATED:20201118T221221Z
LAST-MODIFIED:20201118T221221Z
UID:2015-1607191200-1607194800@cityofcrystalsprings.com
SUMMARY:Crystal Springs Christmas Parade
DESCRIPTION:Crystal Springs Christmas Parade \nDecember 5\, 2020 \n6:00 p.m.
URL:https://cityofcrystalsprings.com/event/crystal-springs-christmas-parade/
END:VEVENT
BEGIN:VEVENT
DTSTART;TZID=UTC:20201204T170000
DTEND;TZID=UTC:20201204T200000
DTSTAMP:20260423T104508
CREATED:20200929T235512Z
LAST-MODIFIED:20201002T210543Z
UID:2000-1607101200-1607112000@cityofcrystalsprings.com
SUMMARY:Downtown\, Hometown Christmas Open House
DESCRIPTION:Interested in hosting a pop-up shop or becoming a vendor?  Click the link below for an application and information!\nDowntown Hometown Christmas Open House Pop-up Shop Vendor Form \n 
URL:https://cityofcrystalsprings.com/event/downtown-hometown-christmas-open-house/
LOCATION:Crystal Springs Downtown\, E Railroad Ave\, Crystal Springs\, MS\, 39059\, United States
ORGANIZER;CN="CS Beautification":MAILTO:tpcar@bellsouth.net
END:VEVENT
BEGIN:VEVENT
DTSTART;TZID=UTC:20201126T180000
DTEND;TZID=UTC:20201126T210000
DTSTAMP:20260423T104509
CREATED:20200929T235920Z
LAST-MODIFIED:20200929T235920Z
UID:2006-1606413600-1606424400@cityofcrystalsprings.com
SUMMARY:Chautauqua Christmas
DESCRIPTION:
URL:https://cityofcrystalsprings.com/event/chautauqua-christmas-6/
LOCATION:Chautauqua Park\, 26031 Highway 51\, Crystal Springs\, MS\, 39059\, United States
ORGANIZER;CN="Parks & Recreation":MAILTO:crystalspringsparks@gmail.com
END:VEVENT
BEGIN:VEVENT
DTSTART;TZID=UTC:20201030T190000
DTEND;TZID=UTC:20201030T220000
DTSTAMP:20260423T104509
CREATED:20200929T235738Z
LAST-MODIFIED:20200929T235738Z
UID:2004-1604084400-1604095200@cityofcrystalsprings.com
SUMMARY:Park Lights\, Fright Nights
DESCRIPTION:
URL:https://cityofcrystalsprings.com/event/park-lights-fright-nights/
LOCATION:Chautauqua Park\, 26031 Highway 51\, Crystal Springs\, MS\, 39059\, United States
ORGANIZER;CN="Parks & Recreation":MAILTO:crystalspringsparks@gmail.com
END:VEVENT
END:VCALENDAR